BEGIN:VCALENDAR
VERSION:2.0
PRODID:-//Winter Park Memorial American Legion Post 112 - ECPv6.15.20//NONSGML v1.0//EN
CALSCALE:GREGORIAN
METHOD:PUBLISH
X-ORIGINAL-URL:https://wpflpost112.org
X-WR-CALDESC:Events for Winter Park Memorial American Legion Post 112
REFRESH-INTERVAL;VALUE=DURATION:PT1H
X-Robots-Tag:noindex
X-PUBLISHED-TTL:PT1H
BEGIN:VTIMEZONE
TZID:America/New_York
BEGIN:DAYLIGHT
TZOFFSETFROM:-0500
TZOFFSETTO:-0400
TZNAME:EDT
DTSTART:20200308T070000
END:DAYLIGHT
BEGIN:STANDARD
TZOFFSETFROM:-0400
TZOFFSETTO:-0500
TZNAME:EST
DTSTART:20201101T060000
END:STANDARD
BEGIN:DAYLIGHT
TZOFFSETFROM:-0500
TZOFFSETTO:-0400
TZNAME:EDT
DTSTART:20210314T070000
END:DAYLIGHT
BEGIN:STANDARD
TZOFFSETFROM:-0400
TZOFFSETTO:-0500
TZNAME:EST
DTSTART:20211107T060000
END:STANDARD
BEGIN:DAYLIGHT
TZOFFSETFROM:-0500
TZOFFSETTO:-0400
TZNAME:EDT
DTSTART:20220313T070000
END:DAYLIGHT
BEGIN:STANDARD
TZOFFSETFROM:-0400
TZOFFSETTO:-0500
TZNAME:EST
DTSTART:20221106T060000
END:STANDARD
END:VTIMEZONE
BEGIN:VEVENT
DTSTART;TZID=America/New_York:20211211T090000
DTEND;TZID=America/New_York:20211211T170000
DTSTAMP:20260425T164255
CREATED:20211116T205717Z
LAST-MODIFIED:20211116T205746Z
UID:512-1639213200-1639242000@wpflpost112.org
SUMMARY:6th District Legion Family meeting
DESCRIPTION:The December meeting for the 6th District Legion family will be held at Post 53\, Sanford\, FL\, with checkin starting at 9 a.m.  The Auxiliary meeting will be both inperson and virtual.  
URL:https://wpflpost112.org/event/6th-district-legion-family-meeting/
LOCATION:Post 53\, Sanford\, 2874 Sanford Ave\, Sanford\, FL\, 32733
CATEGORIES:Department of Florida
END:VEVENT
BEGIN:VEVENT
DTSTART;TZID=America/New_York:20211211T100000
DTEND;TZID=America/New_York:20211211T150000
DTSTAMP:20260425T164255
CREATED:20211203T033602Z
LAST-MODIFIED:20211203T033602Z
UID:540-1639216800-1639234800@wpflpost112.org
SUMMARY:Blood Drive at the Post
DESCRIPTION:For the first time in many years\, your American Legion Post is having a BLOOD DRIVE! The Bloodmobile will be at the Post on December 11th\, 2021 from 11 AM until 3 PM.  While they will accept “walk-ins” to some degree\, it is best to have an appointment so that you are assured of a quick “in and out” time. \nClick here for the flyer.\nHere is the link to set up and appointment:\n\nhttps://donor.oneblood.org/donor/schedules/drive_schedule/1172640\n\nOr you can click on the link in the attached flyer and use the CODE 66638 to get to the appointment schedule.\n\nIf you have any questions\, please contact Commander Middlekauff at 407-739-4949 for help.\n\nFor the Commander\,\nBob Colbert\, Adjutant\nWinter Park Memorial American Legion Post 112
URL:https://wpflpost112.org/event/blood-drive-at-the-post/
LOCATION:Post 112\, 4490 N Goldenrod Rd\, Winter Park\, FL\, 32792
ORGANIZER;CN="Winter Park Memorial Auxiliary Unit 112":MAILTO:wpfl.ala112@gmail.com
END:VEVENT
END:VCALENDAR