BEGIN:VCALENDAR
VERSION:2.0
PRODID:-//Winter Park Memorial American Legion Post 112 - ECPv6.15.20//NONSGML v1.0//EN
CALSCALE:GREGORIAN
METHOD:PUBLISH
X-ORIGINAL-URL:https://wpflpost112.org
X-WR-CALDESC:Events for Winter Park Memorial American Legion Post 112
REFRESH-INTERVAL;VALUE=DURATION:PT1H
X-Robots-Tag:noindex
X-PUBLISHED-TTL:PT1H
BEGIN:VTIMEZONE
TZID:America/New_York
BEGIN:DAYLIGHT
TZOFFSETFROM:-0500
TZOFFSETTO:-0400
TZNAME:EDT
DTSTART:20250309T070000
END:DAYLIGHT
BEGIN:STANDARD
TZOFFSETFROM:-0400
TZOFFSETTO:-0500
TZNAME:EST
DTSTART:20251102T060000
END:STANDARD
BEGIN:DAYLIGHT
TZOFFSETFROM:-0500
TZOFFSETTO:-0400
TZNAME:EDT
DTSTART:20260308T070000
END:DAYLIGHT
BEGIN:STANDARD
TZOFFSETFROM:-0400
TZOFFSETTO:-0500
TZNAME:EST
DTSTART:20261101T060000
END:STANDARD
BEGIN:DAYLIGHT
TZOFFSETFROM:-0500
TZOFFSETTO:-0400
TZNAME:EDT
DTSTART:20270314T070000
END:DAYLIGHT
BEGIN:STANDARD
TZOFFSETFROM:-0400
TZOFFSETTO:-0500
TZNAME:EST
DTSTART:20271107T060000
END:STANDARD
END:VTIMEZONE
BEGIN:VEVENT
DTSTART;TZID=America/New_York:20260201T140000
DTEND;TZID=America/New_York:20260201T160000
DTSTAMP:20260421T060007
CREATED:20251030T041507Z
LAST-MODIFIED:20251215T034346Z
UID:2361-1769954400-1769961600@wpflpost112.org
SUMMARY:Four Chaplains Ceremony
DESCRIPTION:Please join us in honoring these four brave Chaplains who gave their lives so that others could live and consoled those poor servicemen who went down on the Dorchester with them.\nClick here for the flyer.
URL:https://wpflpost112.org/event/four-chaplains-ceremony-2/
LOCATION:First Baptist Church of Winter Park\, 1021 N. New York Ave\, Winter Park\, FL\, 32889
ORGANIZER;CN="Winter Park Memorial American Legion Post 112":MAILTO:flpost112@gmail.com
END:VEVENT
BEGIN:VEVENT
DTSTART;TZID=America/New_York:20260201T170000
DTEND;TZID=America/New_York:20260201T183000
DTSTAMP:20260421T060007
CREATED:20260119T000620Z
LAST-MODIFIED:20260119T000620Z
UID:2399-1769965200-1769970600@wpflpost112.org
SUMMARY:Troop 4613 Troop Meeting
DESCRIPTION:
URL:https://wpflpost112.org/event/troop-4613-troop-meeting/
LOCATION:Post 112\, 4490 N Goldenrod Rd\, Winter Park\, FL\, 32792
END:VEVENT
END:VCALENDAR