BEGIN:VCALENDAR
VERSION:2.0
PRODID:-//Winter Park Memorial American Legion Post 112 - ECPv6.15.20//NONSGML v1.0//EN
CALSCALE:GREGORIAN
METHOD:PUBLISH
X-WR-CALNAME:Winter Park Memorial American Legion Post 112
X-ORIGINAL-URL:https://wpflpost112.org
X-WR-CALDESC:Events for Winter Park Memorial American Legion Post 112
REFRESH-INTERVAL;VALUE=DURATION:PT1H
X-Robots-Tag:noindex
X-PUBLISHED-TTL:PT1H
BEGIN:VTIMEZONE
TZID:America/New_York
BEGIN:DAYLIGHT
TZOFFSETFROM:-0500
TZOFFSETTO:-0400
TZNAME:EDT
DTSTART:20220313T070000
END:DAYLIGHT
BEGIN:STANDARD
TZOFFSETFROM:-0400
TZOFFSETTO:-0500
TZNAME:EST
DTSTART:20221106T060000
END:STANDARD
BEGIN:DAYLIGHT
TZOFFSETFROM:-0500
TZOFFSETTO:-0400
TZNAME:EDT
DTSTART:20230312T070000
END:DAYLIGHT
BEGIN:STANDARD
TZOFFSETFROM:-0400
TZOFFSETTO:-0500
TZNAME:EST
DTSTART:20231105T060000
END:STANDARD
BEGIN:DAYLIGHT
TZOFFSETFROM:-0500
TZOFFSETTO:-0400
TZNAME:EDT
DTSTART:20240310T070000
END:DAYLIGHT
BEGIN:STANDARD
TZOFFSETFROM:-0400
TZOFFSETTO:-0500
TZNAME:EST
DTSTART:20241103T060000
END:STANDARD
BEGIN:DAYLIGHT
TZOFFSETFROM:-0500
TZOFFSETTO:-0400
TZNAME:EDT
DTSTART:20250309T070000
END:DAYLIGHT
BEGIN:STANDARD
TZOFFSETFROM:-0400
TZOFFSETTO:-0500
TZNAME:EST
DTSTART:20251102T060000
END:STANDARD
BEGIN:DAYLIGHT
TZOFFSETFROM:-0500
TZOFFSETTO:-0400
TZNAME:EDT
DTSTART:20260308T070000
END:DAYLIGHT
BEGIN:STANDARD
TZOFFSETFROM:-0400
TZOFFSETTO:-0500
TZNAME:EST
DTSTART:20261101T060000
END:STANDARD
END:VTIMEZONE
BEGIN:VEVENT
DTSTART;VALUE=DATE:20250619
DTEND;VALUE=DATE:20250628
DTSTAMP:20260425T074921
CREATED:20250129T063712Z
LAST-MODIFIED:20250129T063712Z
UID:2059-1750291200-1751068799@wpflpost112.org
SUMMARY:Girls State
DESCRIPTION:
URL:https://wpflpost112.org/event/girls-state-3/
CATEGORIES:Auxiliary
END:VEVENT
BEGIN:VEVENT
DTSTART;TZID=America/New_York:20250617T190000
DTEND;TZID=America/New_York:20250617T200000
DTSTAMP:20260425T074921
CREATED:20250125T002745Z
LAST-MODIFIED:20250125T002745Z
UID:2021-1750186800-1750190400@wpflpost112.org
SUMMARY:Auxiliary Meeting - 7 PM - ZOOM ONLY
DESCRIPTION:
URL:https://wpflpost112.org/event/auxiliary-meeting-7-pm-zoom-only-4/
LOCATION:ZOOM
CATEGORIES:Auxiliary
ORGANIZER;CN="Winter Park Memorial Auxiliary Unit 112":MAILTO:wpfl.ala112@gmail.com
END:VEVENT
BEGIN:VEVENT
DTSTART;VALUE=DATE:20250612
DTEND;VALUE=DATE:20250616
DTSTAMP:20260425T074921
CREATED:20230523T232859Z
LAST-MODIFIED:20230523T232859Z
UID:1225-1749686400-1750031999@wpflpost112.org
SUMMARY:Department Convention
DESCRIPTION:
URL:https://wpflpost112.org/event/department-convention-2/
LOCATION:Orlando Hilton at Lake Beuna Vista\, 1751 Hotel Plaza Blvd\, Lake Buena Vista\, FL\, 32830
CATEGORIES:Auxiliary,Legion,Sons
END:VEVENT
BEGIN:VEVENT
DTSTART;TZID=America/New_York:20250520T190000
DTEND;TZID=America/New_York:20250520T200000
DTSTAMP:20260425T074921
CREATED:20250125T002617Z
LAST-MODIFIED:20250125T002617Z
UID:2019-1747767600-1747771200@wpflpost112.org
SUMMARY:Auxiliary Meeting - 7 PM - ZOOM ONLY
DESCRIPTION:
URL:https://wpflpost112.org/event/auxiliary-meeting-7-pm-zoom-only-3/
LOCATION:ZOOM
CATEGORIES:Auxiliary
ORGANIZER;CN="Winter Park Memorial Auxiliary Unit 112":MAILTO:wpfl.ala112@gmail.com
END:VEVENT
BEGIN:VEVENT
DTSTART;TZID=America/New_York:20250415T190000
DTEND;TZID=America/New_York:20250415T200000
DTSTAMP:20260425T074921
CREATED:20250125T002350Z
LAST-MODIFIED:20250125T002350Z
UID:2017-1744743600-1744747200@wpflpost112.org
SUMMARY:Auxiliary Meeting - 7 PM - ZOOM ONLY
DESCRIPTION:
URL:https://wpflpost112.org/event/auxiliary-meeting-7-pm-zoom-only-2/
LOCATION:ZOOM
CATEGORIES:Auxiliary
ORGANIZER;CN="Winter Park Memorial Auxiliary Unit 112":MAILTO:wpfl.ala112@gmail.com
END:VEVENT
BEGIN:VEVENT
DTSTART;TZID=America/New_York:20250318T190000
DTEND;TZID=America/New_York:20250318T200000
DTSTAMP:20260425T074921
CREATED:20250125T001938Z
LAST-MODIFIED:20250125T001938Z
UID:2015-1742324400-1742328000@wpflpost112.org
SUMMARY:Auxiliary Meeting - 7 PM - ZOOM ONLY
DESCRIPTION:
URL:https://wpflpost112.org/event/auxiliary-meeting-7-pm-zoom-only/
LOCATION:ZOOM
CATEGORIES:Auxiliary
ORGANIZER;CN="Winter Park Memorial Auxiliary Unit 112":MAILTO:wpfl.ala112@gmail.com
END:VEVENT
BEGIN:VEVENT
DTSTART;TZID=America/New_York:20250223T140000
DTEND;TZID=America/New_York:20250223T160000
DTSTAMP:20260425T074921
CREATED:20241209T032653Z
LAST-MODIFIED:20241209T032653Z
UID:1924-1740319200-1740326400@wpflpost112.org
SUMMARY:Girls State Interviews
DESCRIPTION:
URL:https://wpflpost112.org/event/girls-state-interviews/
LOCATION:Post 112\, 4490 N Goldenrod Rd\, Winter Park\, FL\, 32792
CATEGORIES:Auxiliary
ORGANIZER;CN="Winter Park Memorial Auxiliary Unit 112":MAILTO:wpfl.ala112@gmail.com
END:VEVENT
BEGIN:VEVENT
DTSTART;TZID=America/New_York:20250218T190000
DTEND;TZID=America/New_York:20250218T200000
DTSTAMP:20260425T074921
CREATED:20241209T033228Z
LAST-MODIFIED:20241209T033228Z
UID:1930-1739905200-1739908800@wpflpost112.org
SUMMARY:Auxiliary Meeting - ZOOM ONLY
DESCRIPTION:
URL:https://wpflpost112.org/event/auxiliary-meeting-zoom-only/
LOCATION:ZOOM
CATEGORIES:Auxiliary
ORGANIZER;CN="Winter Park Memorial Auxiliary Unit 112":MAILTO:wpfl.ala112@gmail.com
END:VEVENT
BEGIN:VEVENT
DTSTART;TZID=America/New_York:20250202T140000
DTEND;TZID=America/New_York:20250202T160000
DTSTAMP:20260425T074921
CREATED:20250124T211637Z
LAST-MODIFIED:20250124T211637Z
UID:1957-1738504800-1738512000@wpflpost112.org
SUMMARY:Four Chaplains Memorial Service
DESCRIPTION:This year\, our Four Chaplain’s Memorial Serivce will be held at the First Baptist Church of Winter Park. We will be honoring the four chaplains who died on the USAT (US Army Transport) Dorchester on February 3\, 1943. These brave men gave up their life saving equipment so that others could live and comforted the other soldiers aboard the ship who were not able to get off. 
URL:https://wpflpost112.org/event/four-chaplains-memorial-service/
LOCATION:First Baptist Church of Winter Park\, 1021 N. New York Ave\, Winter Park\, FL\, 32889
CATEGORIES:Auxiliary,Legion,Post Family,Sea Cadets,Sons
ORGANIZER;CN="Winter Park Memorial American Legion Post 112":MAILTO:flpost112@gmail.com
END:VEVENT
BEGIN:VEVENT
DTSTART;TZID=America/New_York:20250121T190000
DTEND;TZID=America/New_York:20250121T200000
DTSTAMP:20260425T074921
CREATED:20241120T023421Z
LAST-MODIFIED:20241120T023421Z
UID:1914-1737486000-1737489600@wpflpost112.org
SUMMARY:Auxiliary Unit 112 Meeting - 7 PM - ZOOM
DESCRIPTION:
URL:https://wpflpost112.org/event/auxiliary-unit-112-meeting-7-pm-zoom/
LOCATION:ZOOM
CATEGORIES:Auxiliary
ORGANIZER;CN="Winter Park Memorial Auxiliary Unit 112":MAILTO:wpfl.ala112@gmail.com
END:VEVENT
BEGIN:VEVENT
DTSTART;TZID=America/New_York:20241217T190000
DTEND;TZID=America/New_York:20241217T200000
DTSTAMP:20260425T074921
CREATED:20240821T214904Z
LAST-MODIFIED:20241018T235806Z
UID:1825-1734462000-1734465600@wpflpost112.org
SUMMARY:Auxiliary Meeting - MOVED
DESCRIPTION:The monthly ZOOM meeting has been replaced (this month only) by the Post Family Holiday Dinner at Perkins Restaurant. 
URL:https://wpflpost112.org/event/auxiliary-meeting/
LOCATION:ZOOM
CATEGORIES:Auxiliary
ORGANIZER;CN="Winter Park Memorial Auxiliary Unit 112":MAILTO:wpfl.ala112@gmail.com
END:VEVENT
BEGIN:VEVENT
DTSTART;VALUE=DATE:20241122
DTEND;VALUE=DATE:20241125
DTSTAMP:20260425T074921
CREATED:20230523T231940Z
LAST-MODIFIED:20230523T231940Z
UID:1217-1732233600-1732492799@wpflpost112.org
SUMMARY:Fall Department of Florida Convention
DESCRIPTION:
URL:https://wpflpost112.org/event/fall-department-of-florida-convention/
LOCATION:Caribe Royale Orlando\, 8101 World Center Dr\, Orlndo\, FL\, 32821
CATEGORIES:Auxiliary,Legion,Sons
END:VEVENT
BEGIN:VEVENT
DTSTART;TZID=America/New_York:20241119T190000
DTEND;TZID=America/New_York:20241119T200000
DTSTAMP:20260425T074921
CREATED:20240815T015858Z
LAST-MODIFIED:20240815T015858Z
UID:1800-1732042800-1732046400@wpflpost112.org
SUMMARY:Auxiliary Unit 112 Meeting
DESCRIPTION:
URL:https://wpflpost112.org/event/auxiliary-unit-112-meeting-9/
LOCATION:ZOOM
CATEGORIES:Auxiliary
ORGANIZER;CN="Winter Park Memorial Auxiliary Unit 112":MAILTO:wpfl.ala112@gmail.com
END:VEVENT
BEGIN:VEVENT
DTSTART;TZID=America/New_York:20241015T190000
DTEND;TZID=America/New_York:20241015T200000
DTSTAMP:20260425T074921
CREATED:20240815T014600Z
LAST-MODIFIED:20240815T014600Z
UID:1792-1729018800-1729022400@wpflpost112.org
SUMMARY:Auxiliary Unit 112 Meeting
DESCRIPTION:
URL:https://wpflpost112.org/event/auxiliary-unit-112-meeting-8/
LOCATION:ZOOM
CATEGORIES:Auxiliary
ORGANIZER;CN="Winter Park Memorial Auxiliary Unit 112":MAILTO:wpfl.ala112@gmail.com
END:VEVENT
BEGIN:VEVENT
DTSTART;TZID=America/New_York:20240917T190000
DTEND;TZID=America/New_York:20240917T200000
DTSTAMP:20260425T074921
CREATED:20240115T234700Z
LAST-MODIFIED:20240115T234700Z
UID:1565-1726599600-1726603200@wpflpost112.org
SUMMARY:Auxiliary Unit meeting on ZOOM
DESCRIPTION:
URL:https://wpflpost112.org/event/auxiliary-unit-meeting-on-zoom-5/
LOCATION:ZOOM
CATEGORIES:Auxiliary
ORGANIZER;CN="Winter Park Memorial Auxiliary Unit 112":MAILTO:wpfl.ala112@gmail.com
END:VEVENT
BEGIN:VEVENT
DTSTART;TZID=America/New_York:20240709T190000
DTEND;TZID=America/New_York:20240709T200000
DTSTAMP:20260425T074921
CREATED:20240115T232805Z
LAST-MODIFIED:20240115T232805Z
UID:1555-1720551600-1720555200@wpflpost112.org
SUMMARY:General Meeting
DESCRIPTION:Installation of Officers is scheduled for tonight. 
URL:https://wpflpost112.org/event/general-meeting-2/
LOCATION:Post 112\, 4490 N Goldenrod Rd\, Winter Park\, FL\, 32792
CATEGORIES:Auxiliary,Legion,Sons
ORGANIZER;CN="Winter Park Memorial American Legion Post 112":MAILTO:flpost112@gmail.com
END:VEVENT
BEGIN:VEVENT
DTSTART;VALUE=DATE:20240620
DTEND;VALUE=DATE:20240627
DTSTAMP:20260425T074921
CREATED:20231216T030733Z
LAST-MODIFIED:20231216T030733Z
UID:1504-1718841600-1719446399@wpflpost112.org
SUMMARY:Girls State
DESCRIPTION:
URL:https://wpflpost112.org/event/girls-state-2/
CATEGORIES:Auxiliary
ORGANIZER;CN="Winter Park Memorial Auxiliary Unit 112":MAILTO:wpfl.ala112@gmail.com
END:VEVENT
BEGIN:VEVENT
DTSTART;TZID=America/New_York:20240618T080000
DTEND;TZID=America/New_York:20240618T170000
DTSTAMP:20260425T074921
CREATED:20240115T231738Z
LAST-MODIFIED:20240115T231738Z
UID:1549-1718697600-1718730000@wpflpost112.org
SUMMARY:Auxiliary Unit meeting on ZOOM
DESCRIPTION:
URL:https://wpflpost112.org/event/auxiliary-unit-meeting-on-zoom-4/
LOCATION:ZOOM
CATEGORIES:Auxiliary
ORGANIZER;CN="Winter Park Memorial Auxiliary Unit 112":MAILTO:wpfl.ala112@gmail.com
END:VEVENT
BEGIN:VEVENT
DTSTART;VALUE=DATE:20240613
DTEND;VALUE=DATE:20240617
DTSTAMP:20260425T074921
CREATED:20230523T232651Z
LAST-MODIFIED:20230523T232651Z
UID:1223-1718236800-1718582399@wpflpost112.org
SUMMARY:Department Convention
DESCRIPTION:
URL:https://wpflpost112.org/event/department-convention/
LOCATION:Orlando Hilton at Lake Beuna Vista\, 1751 Hotel Plaza Blvd\, Lake Buena Vista\, FL\, 32830
CATEGORIES:Auxiliary,Legion,Sons
END:VEVENT
BEGIN:VEVENT
DTSTART;TZID=America/New_York:20240521T190000
DTEND;TZID=America/New_York:20240521T200000
DTSTAMP:20260425T074921
CREATED:20240115T231155Z
LAST-MODIFIED:20240115T231155Z
UID:1543-1716318000-1716321600@wpflpost112.org
SUMMARY:Auxiliary Unit meeting on ZOOM
DESCRIPTION:
URL:https://wpflpost112.org/event/auxiliary-unit-meeting-on-zoom-3/
LOCATION:ZOOM
CATEGORIES:Auxiliary
ORGANIZER;CN="Winter Park Memorial Auxiliary Unit 112":MAILTO:wpfl.ala112@gmail.com
END:VEVENT
BEGIN:VEVENT
DTSTART;TZID=America/New_York:20240416T190000
DTEND;TZID=America/New_York:20240416T200000
DTSTAMP:20260425T074921
CREATED:20240118T231439Z
LAST-MODIFIED:20240402T223503Z
UID:1593-1713294000-1713297600@wpflpost112.org
SUMMARY:Auxiliary Unit Meeting on ZOOM
DESCRIPTION:
URL:https://wpflpost112.org/event/auxiliary-unit-meeting-21/
LOCATION:ZOOM
CATEGORIES:Auxiliary
ORGANIZER;CN="Winter Park Memorial Auxiliary Unit 112":MAILTO:wpfl.ala112@gmail.com
END:VEVENT
BEGIN:VEVENT
DTSTART;TZID=America/New_York:20240319T190000
DTEND;TZID=America/New_York:20240319T200000
DTSTAMP:20260425T074921
CREATED:20240115T230150Z
LAST-MODIFIED:20240115T230150Z
UID:1537-1710874800-1710878400@wpflpost112.org
SUMMARY:Auxiliary Unit Meeting
DESCRIPTION:
URL:https://wpflpost112.org/event/auxiliary-unit-meeting-20/
LOCATION:ZOOM
CATEGORIES:Auxiliary
ORGANIZER;CN="Winter Park Memorial Auxiliary Unit 112":MAILTO:wpfl.ala112@gmail.com
END:VEVENT
BEGIN:VEVENT
DTSTART;TZID=America/New_York:20240225T140000
DTEND;TZID=America/New_York:20240225T170000
DTSTAMP:20260425T074921
CREATED:20231017T234100Z
LAST-MODIFIED:20231017T234100Z
UID:1466-1708869600-1708880400@wpflpost112.org
SUMMARY:Girls State Selection
DESCRIPTION:
URL:https://wpflpost112.org/event/girls-state-selection-2/
LOCATION:Post 112\, 4490 N Goldenrod Rd\, Winter Park\, FL\, 32792
CATEGORIES:Auxiliary
ORGANIZER;CN="Winter Park Memorial Auxiliary Unit 112":MAILTO:wpfl.ala112@gmail.com
END:VEVENT
BEGIN:VEVENT
DTSTART;TZID=America/New_York:20240220T190000
DTEND;TZID=America/New_York:20240220T200000
DTSTAMP:20260425T074921
CREATED:20230807T184446Z
LAST-MODIFIED:20240115T224748Z
UID:1424-1708455600-1708459200@wpflpost112.org
SUMMARY:Auxiliary Unit Meeting
DESCRIPTION:This month\, the meeting will be at the Post and on ZOOM. 
URL:https://wpflpost112.org/event/auxiliary-unit-meeting-on-zoom/
LOCATION:ZOOM
CATEGORIES:Auxiliary
ORGANIZER;CN="Winter Park Memorial Auxiliary Unit 112":MAILTO:wpfl.ala112@gmail.com
END:VEVENT
BEGIN:VEVENT
DTSTART;TZID=America/New_York:20240116T190000
DTEND;TZID=America/New_York:20240116T200000
DTSTAMP:20260425T074921
CREATED:20230807T184606Z
LAST-MODIFIED:20230807T184606Z
UID:1426-1705431600-1705435200@wpflpost112.org
SUMMARY:Auxiliary Unit Meeting on ZOOM
DESCRIPTION:
URL:https://wpflpost112.org/event/auxiliary-unit-meeting-on-zoom-2/
LOCATION:ZOOM
CATEGORIES:Auxiliary
ORGANIZER;CN="Winter Park Memorial Auxiliary Unit 112":MAILTO:wpfl.ala112@gmail.com
END:VEVENT
BEGIN:VEVENT
DTSTART;TZID=America/New_York:20231219T190000
DTEND;TZID=America/New_York:20231219T200000
DTSTAMP:20260425T074921
CREATED:20230807T180419Z
LAST-MODIFIED:20231014T234633Z
UID:1388-1703012400-1703016000@wpflpost112.org
SUMMARY:Auxiliary Unit 112 Meeting - MOVED
DESCRIPTION:The December meeting will take place on Friday\, December 8th\, at the Annual Legion Post Family Christmas Holiday Dinner. Please make your reservations. 
URL:https://wpflpost112.org/event/auxiliary-unit-112-meeting-6/
LOCATION:ZOOM
CATEGORIES:Auxiliary
ORGANIZER;CN="Winter Park Memorial Auxiliary Unit 112":MAILTO:wpfl.ala112@gmail.com
END:VEVENT
BEGIN:VEVENT
DTSTART;TZID=America/New_York:20231209T093000
DTEND;TZID=America/New_York:20231209T140000
DTSTAMP:20260425T074921
CREATED:20231122T010231Z
LAST-MODIFIED:20231122T010231Z
UID:1480-1702114200-1702130400@wpflpost112.org
SUMMARY:6th District Meeting
DESCRIPTION:The meeting will be held at the St Cloud Post 80.
URL:https://wpflpost112.org/event/6th-district-meeting-2/
LOCATION:Post 80\, St Cloud\, 1019 Pennsylvania Ave\, St Cloud\, FL\, 34769
CATEGORIES:Auxiliary,Legion,Sons
END:VEVENT
BEGIN:VEVENT
DTSTART;TZID=America/New_York:20231208T183000
DTEND;TZID=America/New_York:20231208T210000
DTSTAMP:20260425T074921
CREATED:20231014T234037Z
LAST-MODIFIED:20231014T234115Z
UID:1456-1702060200-1702069200@wpflpost112.org
SUMMARY:Legion Post Family Cristmas Holiday Dinner
DESCRIPTION:The annual Legion Post Family Christmas Holiday Dinner will be held at the Perkins Restaurant on University Blvd starting at 6:30 PM. We will be ordering from the menu. There will be a gift exchange for those who wish to participate. Gifts should be wraped and less than $25. Advance reservations are required and may be made by calling or texting 321-300-6765 or sending an email to FLPost112@gmail.com with your name and the number of people in your party. Deadline for reservations is 11:59 PM on December 5\, 2023. We hope to see you there! This replaces the three meetings for December for the Legion\, Auxiliary and Sons. 
URL:https://wpflpost112.org/event/legion-post-family-cristmas-holiday-dinner/
LOCATION:Perkins Restaurant\, 6425 University Blvd\, Winter Park\, FL\, 32792\, United States
CATEGORIES:Auxiliary,Legion,Post Family,Sons
ORGANIZER;CN="Winter Park Memorial American Legion Post 112":MAILTO:flpost112@gmail.com
END:VEVENT
BEGIN:VEVENT
DTSTART;TZID=America/New_York:20231121T190000
DTEND;TZID=America/New_York:20231121T200000
DTSTAMP:20260425T074921
CREATED:20230523T220112Z
LAST-MODIFIED:20230807T184227Z
UID:1193-1700593200-1700596800@wpflpost112.org
SUMMARY:Auxiliary Unit Meeting on ZOOM
DESCRIPTION:
URL:https://wpflpost112.org/event/auxiliary-unit-meeting-17/
LOCATION:ZOOM
CATEGORIES:Auxiliary
ORGANIZER;CN="Winter Park Memorial Auxiliary Unit 112":MAILTO:wpfl.ala112@gmail.com
END:VEVENT
BEGIN:VEVENT
DTSTART;VALUE=DATE:20231117
DTEND;VALUE=DATE:20231120
DTSTAMP:20260425T074921
CREATED:20230523T215500Z
LAST-MODIFIED:20230523T215500Z
UID:1187-1700179200-1700438399@wpflpost112.org
SUMMARY:Fall American Legion Conference
DESCRIPTION:
URL:https://wpflpost112.org/event/fall-american-legion-conference/
LOCATION:Caribe Royale Orlando\, 8101 World Center Dr\, Orlndo\, FL\, 32821
CATEGORIES:Auxiliary,Legion,Post Family,Sons
END:VEVENT
END:VCALENDAR