BEGIN:VCALENDAR
VERSION:2.0
PRODID:-//Winter Park Memorial American Legion Post 112 - ECPv6.15.20//NONSGML v1.0//EN
CALSCALE:GREGORIAN
METHOD:PUBLISH
X-ORIGINAL-URL:https://wpflpost112.org
X-WR-CALDESC:Events for Winter Park Memorial American Legion Post 112
REFRESH-INTERVAL;VALUE=DURATION:PT1H
X-Robots-Tag:noindex
X-PUBLISHED-TTL:PT1H
BEGIN:VTIMEZONE
TZID:America/New_York
BEGIN:DAYLIGHT
TZOFFSETFROM:-0500
TZOFFSETTO:-0400
TZNAME:EDT
DTSTART:20240310T070000
END:DAYLIGHT
BEGIN:STANDARD
TZOFFSETFROM:-0400
TZOFFSETTO:-0500
TZNAME:EST
DTSTART:20241103T060000
END:STANDARD
BEGIN:DAYLIGHT
TZOFFSETFROM:-0500
TZOFFSETTO:-0400
TZNAME:EDT
DTSTART:20250309T070000
END:DAYLIGHT
BEGIN:STANDARD
TZOFFSETFROM:-0400
TZOFFSETTO:-0500
TZNAME:EST
DTSTART:20251102T060000
END:STANDARD
BEGIN:DAYLIGHT
TZOFFSETFROM:-0500
TZOFFSETTO:-0400
TZNAME:EDT
DTSTART:20260308T070000
END:DAYLIGHT
BEGIN:STANDARD
TZOFFSETFROM:-0400
TZOFFSETTO:-0500
TZNAME:EST
DTSTART:20261101T060000
END:STANDARD
END:VTIMEZONE
BEGIN:VEVENT
DTSTART;VALUE=DATE:20250505
DTEND;VALUE=DATE:20250506
DTSTAMP:20260419T163516
CREATED:20250305T055337Z
LAST-MODIFIED:20250305T055337Z
UID:2096-1746403200-1746489599@wpflpost112.org
SUMMARY:Cinco de Mayo
DESCRIPTION:
URL:https://wpflpost112.org/event/cinco-de-mayo-2/
LOCATION:FL
CATEGORIES:General
END:VEVENT
BEGIN:VEVENT
DTSTART;VALUE=DATE:20250506
DTEND;VALUE=DATE:20250507
DTSTAMP:20260419T163516
CREATED:20250305T055727Z
LAST-MODIFIED:20250305T055727Z
UID:2098-1746489600-1746575999@wpflpost112.org
SUMMARY:National Nurses Day
DESCRIPTION:
URL:https://wpflpost112.org/event/national-nurses-day/
LOCATION:FL
CATEGORIES:General
END:VEVENT
BEGIN:VEVENT
DTSTART;VALUE=DATE:20250511
DTEND;VALUE=DATE:20250512
DTSTAMP:20260419T163516
CREATED:20250129T042604Z
LAST-MODIFIED:20250129T042604Z
UID:2030-1746921600-1747007999@wpflpost112.org
SUMMARY:Mother's Day
DESCRIPTION:
URL:https://wpflpost112.org/event/mothers-day-3/
LOCATION:FL
CATEGORIES:General
END:VEVENT
BEGIN:VEVENT
DTSTART;VALUE=DATE:20250515
DTEND;VALUE=DATE:20250516
DTSTAMP:20260419T163516
CREATED:20250305T055848Z
LAST-MODIFIED:20250305T055848Z
UID:2100-1747267200-1747353599@wpflpost112.org
SUMMARY:National Peace Officers Day
DESCRIPTION:
URL:https://wpflpost112.org/event/national-peace-officers-day/
LOCATION:FL
CATEGORIES:General
END:VEVENT
BEGIN:VEVENT
DTSTART;VALUE=DATE:20250517
DTEND;VALUE=DATE:20250518
DTSTAMP:20260419T163517
CREATED:20250129T042836Z
LAST-MODIFIED:20250129T042836Z
UID:2032-1747440000-1747526399@wpflpost112.org
SUMMARY:Armed Forces Day
DESCRIPTION:
URL:https://wpflpost112.org/event/armed-forces-day/
LOCATION:FL
CATEGORIES:General
END:VEVENT
BEGIN:VEVENT
DTSTART;VALUE=DATE:20250520
DTEND;VALUE=DATE:20250521
DTSTAMP:20260419T163517
CREATED:20250125T003149Z
LAST-MODIFIED:20250305T060049Z
UID:2025-1747699200-1747785599@wpflpost112.org
SUMMARY:TAX DAY
DESCRIPTION:This is a special extension for Florida residents due to the hurricanes.
URL:https://wpflpost112.org/event/tax-day-3/
LOCATION:FL
CATEGORIES:General
END:VEVENT
BEGIN:VEVENT
DTSTART;VALUE=DATE:20250526
DTEND;VALUE=DATE:20250527
DTSTAMP:20260419T163517
CREATED:20250129T043220Z
LAST-MODIFIED:20250129T043220Z
UID:2036-1748217600-1748303999@wpflpost112.org
SUMMARY:Memorial Day
DESCRIPTION:
URL:https://wpflpost112.org/event/memorial-day-4/
LOCATION:FL
CATEGORIES:General
END:VEVENT
END:VCALENDAR