BEGIN:VCALENDAR
VERSION:2.0
PRODID:-//Winter Park Memorial American Legion Post 112 - ECPv6.15.20//NONSGML v1.0//EN
CALSCALE:GREGORIAN
METHOD:PUBLISH
X-WR-CALNAME:Winter Park Memorial American Legion Post 112
X-ORIGINAL-URL:https://wpflpost112.org
X-WR-CALDESC:Events for Winter Park Memorial American Legion Post 112
REFRESH-INTERVAL;VALUE=DURATION:PT1H
X-Robots-Tag:noindex
X-PUBLISHED-TTL:PT1H
BEGIN:VTIMEZONE
TZID:America/New_York
BEGIN:DAYLIGHT
TZOFFSETFROM:-0500
TZOFFSETTO:-0400
TZNAME:EDT
DTSTART:20200308T070000
END:DAYLIGHT
BEGIN:STANDARD
TZOFFSETFROM:-0400
TZOFFSETTO:-0500
TZNAME:EST
DTSTART:20201101T060000
END:STANDARD
BEGIN:DAYLIGHT
TZOFFSETFROM:-0500
TZOFFSETTO:-0400
TZNAME:EDT
DTSTART:20210314T070000
END:DAYLIGHT
BEGIN:STANDARD
TZOFFSETFROM:-0400
TZOFFSETTO:-0500
TZNAME:EST
DTSTART:20211107T060000
END:STANDARD
BEGIN:DAYLIGHT
TZOFFSETFROM:-0500
TZOFFSETTO:-0400
TZNAME:EDT
DTSTART:20220313T070000
END:DAYLIGHT
BEGIN:STANDARD
TZOFFSETFROM:-0400
TZOFFSETTO:-0500
TZNAME:EST
DTSTART:20221106T060000
END:STANDARD
BEGIN:DAYLIGHT
TZOFFSETFROM:-0500
TZOFFSETTO:-0400
TZNAME:EDT
DTSTART:20230312T070000
END:DAYLIGHT
BEGIN:STANDARD
TZOFFSETFROM:-0400
TZOFFSETTO:-0500
TZNAME:EST
DTSTART:20231105T060000
END:STANDARD
END:VTIMEZONE
BEGIN:VEVENT
DTSTART;VALUE=DATE:20220614
DTEND;VALUE=DATE:20220615
DTSTAMP:20260422T103756
CREATED:20220327T002541Z
LAST-MODIFIED:20220327T002541Z
UID:724-1655164800-1655251199@wpflpost112.org
SUMMARY:Flag Day
DESCRIPTION:
URL:https://wpflpost112.org/event/flag-day/
CATEGORIES:General
END:VEVENT
BEGIN:VEVENT
DTSTART;VALUE=DATE:20220530
DTEND;VALUE=DATE:20220531
DTSTAMP:20260422T103756
CREATED:20220327T001541Z
LAST-MODIFIED:20220327T001541Z
UID:718-1653868800-1653955199@wpflpost112.org
SUMMARY:Memorial Day
DESCRIPTION:
URL:https://wpflpost112.org/event/memorial-day/
CATEGORIES:General
END:VEVENT
BEGIN:VEVENT
DTSTART;VALUE=DATE:20220527
DTEND;VALUE=DATE:20220529
DTSTAMP:20260422T103756
CREATED:20220423T004749Z
LAST-MODIFIED:20220423T004749Z
UID:740-1653609600-1653782399@wpflpost112.org
SUMMARY:Heroes Honor
DESCRIPTION:
URL:https://wpflpost112.org/event/heroes-honor/
CATEGORIES:General
END:VEVENT
BEGIN:VEVENT
DTSTART;VALUE=DATE:20220508
DTEND;VALUE=DATE:20220509
DTSTAMP:20260422T103756
CREATED:20220327T002343Z
LAST-MODIFIED:20220327T002343Z
UID:722-1651968000-1652054399@wpflpost112.org
SUMMARY:Mother's Day
DESCRIPTION:
URL:https://wpflpost112.org/event/mothers-day/
CATEGORIES:General
END:VEVENT
BEGIN:VEVENT
DTSTART;VALUE=DATE:20220418
DTEND;VALUE=DATE:20220419
DTSTAMP:20260422T103756
CREATED:20220107T025638Z
LAST-MODIFIED:20220327T001816Z
UID:594-1650240000-1650326399@wpflpost112.org
SUMMARY:Tax Day
DESCRIPTION:Don’t forget that midnight tonight is the deadline for filing your income taxes unless you have applied for an extension. 
URL:https://wpflpost112.org/event/tax-day/
CATEGORIES:General
END:VEVENT
BEGIN:VEVENT
DTSTART;VALUE=DATE:20220417
DTEND;VALUE=DATE:20220418
DTSTAMP:20260422T103756
CREATED:20220327T002031Z
LAST-MODIFIED:20220327T002031Z
UID:720-1650153600-1650239999@wpflpost112.org
SUMMARY:Easter Sunday
DESCRIPTION:
URL:https://wpflpost112.org/event/easter-sunday/
CATEGORIES:General
END:VEVENT
BEGIN:VEVENT
DTSTART;VALUE=DATE:20220221
DTEND;VALUE=DATE:20220222
DTSTAMP:20260422T103756
CREATED:20220107T024610Z
LAST-MODIFIED:20220107T024610Z
UID:585-1645401600-1645487999@wpflpost112.org
SUMMARY:President's Day
DESCRIPTION:
URL:https://wpflpost112.org/event/presidents-day/
CATEGORIES:General
END:VEVENT
BEGIN:VEVENT
DTSTART;VALUE=DATE:20220117
DTEND;VALUE=DATE:20220118
DTSTAMP:20260422T103756
CREATED:20211116T210255Z
LAST-MODIFIED:20211116T210255Z
UID:517-1642377600-1642463999@wpflpost112.org
SUMMARY:Martin Luther King\, Jr Day
DESCRIPTION:
URL:https://wpflpost112.org/event/martin-luther-king-jr-day/
CATEGORIES:General
END:VEVENT
BEGIN:VEVENT
DTSTART;VALUE=DATE:20220101
DTEND;VALUE=DATE:20220102
DTSTAMP:20260422T103756
CREATED:20210803T010141Z
LAST-MODIFIED:20210816T233910Z
UID:197-1640995200-1641081599@wpflpost112.org
SUMMARY:New Years Day - Welcome 2022
DESCRIPTION:Happy New Year from the Post Family here at Post 112. 
URL:https://wpflpost112.org/event/new-years-day-welcome-2022/
CATEGORIES:General
END:VEVENT
BEGIN:VEVENT
DTSTART;VALUE=DATE:20211226
DTEND;VALUE=DATE:20220101
DTSTAMP:20260422T103756
CREATED:20211116T010124Z
LAST-MODIFIED:20211116T011135Z
UID:505-1640476800-1640995199@wpflpost112.org
SUMMARY:Kwanzaa
DESCRIPTION:
URL:https://wpflpost112.org/event/kwanzaa/
CATEGORIES:General
END:VEVENT
BEGIN:VEVENT
DTSTART;VALUE=DATE:20211225
DTEND;VALUE=DATE:20211226
DTSTAMP:20260422T103756
CREATED:20210803T010000Z
LAST-MODIFIED:20210816T233933Z
UID:195-1640390400-1640476799@wpflpost112.org
SUMMARY:Christmas Day
DESCRIPTION:Merry Christmas from the Post Family here at Post 112.
URL:https://wpflpost112.org/event/christmas-day/
CATEGORIES:General
END:VEVENT
BEGIN:VEVENT
DTSTART;VALUE=DATE:20211223
DTEND;VALUE=DATE:20211224
DTSTAMP:20260422T103756
CREATED:20211116T005529Z
LAST-MODIFIED:20211116T005529Z
UID:503-1640217600-1640303999@wpflpost112.org
SUMMARY:First day of Winter
DESCRIPTION:
URL:https://wpflpost112.org/event/first-day-of-winter/
CATEGORIES:General
END:VEVENT
BEGIN:VEVENT
DTSTART;VALUE=DATE:20211128
DTEND;VALUE=DATE:20211207
DTSTAMP:20260422T103756
CREATED:20211116T005242Z
LAST-MODIFIED:20211116T005242Z
UID:501-1638057600-1638835199@wpflpost112.org
SUMMARY:Hanukkah
DESCRIPTION:
URL:https://wpflpost112.org/event/hanukkah/
CATEGORIES:General
END:VEVENT
BEGIN:VEVENT
DTSTART;VALUE=DATE:20211126
DTEND;VALUE=DATE:20211127
DTSTAMP:20260422T103756
CREATED:20210803T004506Z
LAST-MODIFIED:20210816T234341Z
UID:193-1637884800-1637971199@wpflpost112.org
SUMMARY:Black Friday
DESCRIPTION:Today is either a shopper’s nightmare or shopper’s dream. Please be careful while out shopping and DO NOT LEAVE ITEMS VISIBLE IN YOUR CAR!
URL:https://wpflpost112.org/event/black-friday/
CATEGORIES:General
END:VEVENT
BEGIN:VEVENT
DTSTART;VALUE=DATE:20211125
DTEND;VALUE=DATE:20211126
DTSTAMP:20260422T103756
CREATED:20210803T004217Z
LAST-MODIFIED:20210816T234402Z
UID:191-1637798400-1637884799@wpflpost112.org
SUMMARY:Thanksgiving Day
DESCRIPTION:The Post Family wishes all a Happy Thanksgiving. Please have a safe and pleasant day.
URL:https://wpflpost112.org/event/thanksgiving-day/
CATEGORIES:General
END:VEVENT
BEGIN:VEVENT
DTSTART;VALUE=DATE:20211110
DTEND;VALUE=DATE:20211111
DTSTAMP:20260422T103756
CREATED:20210806T174834Z
LAST-MODIFIED:20210816T234526Z
UID:256-1636502400-1636588799@wpflpost112.org
SUMMARY:Marine Corps Birthday
DESCRIPTION:
URL:https://wpflpost112.org/event/marine-corps-birthday/
CATEGORIES:General
END:VEVENT
BEGIN:VEVENT
DTSTART;VALUE=DATE:20211031
DTEND;VALUE=DATE:20211101
DTSTAMP:20260422T103756
CREATED:20210803T023941Z
LAST-MODIFIED:20210816T234858Z
UID:219-1635638400-1635724799@wpflpost112.org
SUMMARY:Halloween
DESCRIPTION:
URL:https://wpflpost112.org/event/halloween/
CATEGORIES:General
END:VEVENT
BEGIN:VEVENT
DTSTART;VALUE=DATE:20210918
DTEND;VALUE=DATE:20210919
DTSTAMP:20260422T103756
CREATED:20210803T071655Z
LAST-MODIFIED:20210817T012233Z
UID:244-1631923200-1632009599@wpflpost112.org
SUMMARY:US Air Force Birthday
DESCRIPTION:
URL:https://wpflpost112.org/event/us-air-force-birthday/
CATEGORIES:General
END:VEVENT
BEGIN:VEVENT
DTSTART;VALUE=DATE:20210917
DTEND;VALUE=DATE:20210918
DTSTAMP:20260422T103756
CREATED:20210814T223248Z
LAST-MODIFIED:20210817T012336Z
UID:289-1631836800-1631923199@wpflpost112.org
SUMMARY:POW - MIA Day
DESCRIPTION:
URL:https://wpflpost112.org/event/pow-mia-dat/
CATEGORIES:General
END:VEVENT
BEGIN:VEVENT
DTSTART;VALUE=DATE:20210912
DTEND;VALUE=DATE:20210913
DTSTAMP:20260422T103756
CREATED:20210803T013913Z
LAST-MODIFIED:20210817T012525Z
UID:212-1631404800-1631491199@wpflpost112.org
SUMMARY:Grand Parents Day
DESCRIPTION:
URL:https://wpflpost112.org/event/grand-parents-day/
CATEGORIES:General
END:VEVENT
BEGIN:VEVENT
DTSTART;TZID=America/New_York:20210911T100000
DTEND;TZID=America/New_York:20210911T113000
DTSTAMP:20260422T103756
CREATED:20210802T012454Z
LAST-MODIFIED:20211218T195834Z
UID:93-1631354400-1631359800@wpflpost112.org
SUMMARY:Patriots Day
DESCRIPTION:Flags will be flown at half staff today.\nThe Post will hold a rememberance ceremony at the Post in the Pavilion at 10 AM on Saturday\, September 11th. You are invited to attend in person or online. We will be sending out the link by email to all Post Family members but if you miss it\, send us a note at FLPost112@gmail.com and we will send it to you individually. Please click here for the flyer. If you wish to view the event\, click here.
URL:https://wpflpost112.org/event/anniversary-of-the-twin-towers-bombing/
LOCATION:Post 112\, 4490 N Goldenrod Rd\, Winter Park\, FL\, 32792
CATEGORIES:General
ORGANIZER;CN="Winter Park Memorial American Legion Post 112":MAILTO:flpost112@gmail.com
END:VEVENT
BEGIN:VEVENT
DTSTART;VALUE=DATE:20210906
DTEND;VALUE=DATE:20210907
DTSTAMP:20260422T103756
CREATED:20210801T211444Z
LAST-MODIFIED:20210817T012924Z
UID:81-1630886400-1630972799@wpflpost112.org
SUMMARY:Labor Day
DESCRIPTION:
URL:https://wpflpost112.org/event/labor-day/
CATEGORIES:General
END:VEVENT
BEGIN:VEVENT
DTSTART;VALUE=DATE:20210804
DTEND;VALUE=DATE:20210805
DTSTAMP:20260422T103756
CREATED:20210803T013517Z
LAST-MODIFIED:20210816T234209Z
UID:208-1628035200-1628121599@wpflpost112.org
SUMMARY:US Coast Guard's birthday
DESCRIPTION:
URL:https://wpflpost112.org/event/happy-birthday-to-the-us-coast-guard/
CATEGORIES:General
END:VEVENT
END:VCALENDAR