BEGIN:VCALENDAR
VERSION:2.0
PRODID:-//Winter Park Memorial American Legion Post 112 - ECPv6.15.20//NONSGML v1.0//EN
CALSCALE:GREGORIAN
METHOD:PUBLISH
X-WR-CALNAME:Winter Park Memorial American Legion Post 112
X-ORIGINAL-URL:https://wpflpost112.org
X-WR-CALDESC:Events for Winter Park Memorial American Legion Post 112
REFRESH-INTERVAL;VALUE=DURATION:PT1H
X-Robots-Tag:noindex
X-PUBLISHED-TTL:PT1H
BEGIN:VTIMEZONE
TZID:America/New_York
BEGIN:DAYLIGHT
TZOFFSETFROM:-0500
TZOFFSETTO:-0400
TZNAME:EDT
DTSTART:20240310T070000
END:DAYLIGHT
BEGIN:STANDARD
TZOFFSETFROM:-0400
TZOFFSETTO:-0500
TZNAME:EST
DTSTART:20241103T060000
END:STANDARD
BEGIN:DAYLIGHT
TZOFFSETFROM:-0500
TZOFFSETTO:-0400
TZNAME:EDT
DTSTART:20250309T070000
END:DAYLIGHT
BEGIN:STANDARD
TZOFFSETFROM:-0400
TZOFFSETTO:-0500
TZNAME:EST
DTSTART:20251102T060000
END:STANDARD
BEGIN:DAYLIGHT
TZOFFSETFROM:-0500
TZOFFSETTO:-0400
TZNAME:EDT
DTSTART:20260308T070000
END:DAYLIGHT
BEGIN:STANDARD
TZOFFSETFROM:-0400
TZOFFSETTO:-0500
TZNAME:EST
DTSTART:20261101T060000
END:STANDARD
END:VTIMEZONE
BEGIN:VEVENT
DTSTART;TZID=America/New_York:20250610T190000
DTEND;TZID=America/New_York:20250610T200000
DTSTAMP:20260419T133952
CREATED:20250124T234505Z
LAST-MODIFIED:20250124T234739Z
UID:2005-1749582000-1749585600@wpflpost112.org
SUMMARY:Post General Membership Meeting - 7 PM - Post & ZOOM
DESCRIPTION:The Post’s monthly general membership meeting is held on the 2nd Tuesday of each month\, except December. All members of the Post Family are welcome to attend either online or in person. The ZOOM session opens at about 6:45 PM to allow for setup time for those attending. If you did not receive the ZOOM login\, send a note to the Adjutant at FLPost112@gmail.com or leave word at 407-671-6404 PRIOR to 5 PM on the meeting day for the info.
URL:https://wpflpost112.org/event/post-general-membership-meeting-7-pm-post-zoom/
LOCATION:Post 112\, 4490 N Goldenrod Rd\, Winter Park\, FL\, 32792
CATEGORIES:Legion
ORGANIZER;CN="Winter Park Memorial American Legion Post 112":MAILTO:flpost112@gmail.com
END:VEVENT
BEGIN:VEVENT
DTSTART;VALUE=DATE:20250612
DTEND;VALUE=DATE:20250616
DTSTAMP:20260419T133952
CREATED:20230523T232859Z
LAST-MODIFIED:20230523T232859Z
UID:1225-1749686400-1750031999@wpflpost112.org
SUMMARY:Department Convention
DESCRIPTION:
URL:https://wpflpost112.org/event/department-convention-2/
LOCATION:Orlando Hilton at Lake Beuna Vista\, 1751 Hotel Plaza Blvd\, Lake Buena Vista\, FL\, 32830
CATEGORIES:Auxiliary,Legion,Sons
END:VEVENT
BEGIN:VEVENT
DTSTART;VALUE=DATE:20250614
DTEND;VALUE=DATE:20250615
DTSTAMP:20260419T133952
CREATED:20250129T062206Z
LAST-MODIFIED:20250129T062250Z
UID:2054-1749859200-1749945599@wpflpost112.org
SUMMARY:Flag Day
DESCRIPTION:
URL:https://wpflpost112.org/event/flag-day-2/
LOCATION:FL
CATEGORIES:Legion
END:VEVENT
BEGIN:VEVENT
DTSTART;VALUE=DATE:20250615
DTEND;VALUE=DATE:20250622
DTSTAMP:20260419T133952
CREATED:20250129T062903Z
LAST-MODIFIED:20250129T063857Z
UID:2056-1749945600-1750550399@wpflpost112.org
SUMMARY:Boys State
DESCRIPTION:
URL:https://wpflpost112.org/event/boys-state-2/
LOCATION:Tallahassee\,  Fl
CATEGORIES:Legion
END:VEVENT
END:VCALENDAR