BEGIN:VCALENDAR
VERSION:2.0
PRODID:-//Winter Park Memorial American Legion Post 112 - ECPv6.15.20//NONSGML v1.0//EN
CALSCALE:GREGORIAN
METHOD:PUBLISH
X-WR-CALNAME:Winter Park Memorial American Legion Post 112
X-ORIGINAL-URL:https://wpflpost112.org
X-WR-CALDESC:Events for Winter Park Memorial American Legion Post 112
REFRESH-INTERVAL;VALUE=DURATION:PT1H
X-Robots-Tag:noindex
X-PUBLISHED-TTL:PT1H
BEGIN:VTIMEZONE
TZID:America/New_York
BEGIN:DAYLIGHT
TZOFFSETFROM:-0500
TZOFFSETTO:-0400
TZNAME:EDT
DTSTART:20240310T070000
END:DAYLIGHT
BEGIN:STANDARD
TZOFFSETFROM:-0400
TZOFFSETTO:-0500
TZNAME:EST
DTSTART:20241103T060000
END:STANDARD
BEGIN:DAYLIGHT
TZOFFSETFROM:-0500
TZOFFSETTO:-0400
TZNAME:EDT
DTSTART:20250309T070000
END:DAYLIGHT
BEGIN:STANDARD
TZOFFSETFROM:-0400
TZOFFSETTO:-0500
TZNAME:EST
DTSTART:20251102T060000
END:STANDARD
BEGIN:DAYLIGHT
TZOFFSETFROM:-0500
TZOFFSETTO:-0400
TZNAME:EDT
DTSTART:20260308T070000
END:DAYLIGHT
BEGIN:STANDARD
TZOFFSETFROM:-0400
TZOFFSETTO:-0500
TZNAME:EST
DTSTART:20261101T060000
END:STANDARD
BEGIN:DAYLIGHT
TZOFFSETFROM:-0500
TZOFFSETTO:-0400
TZNAME:EDT
DTSTART:20270314T070000
END:DAYLIGHT
BEGIN:STANDARD
TZOFFSETFROM:-0400
TZOFFSETTO:-0500
TZNAME:EST
DTSTART:20271107T060000
END:STANDARD
END:VTIMEZONE
BEGIN:VEVENT
DTSTART;TZID=America/New_York:20250202T140000
DTEND;TZID=America/New_York:20250202T160000
DTSTAMP:20260424T200522
CREATED:20250124T211637Z
LAST-MODIFIED:20250124T211637Z
UID:1957-1738504800-1738512000@wpflpost112.org
SUMMARY:Four Chaplains Memorial Service
DESCRIPTION:This year\, our Four Chaplain’s Memorial Serivce will be held at the First Baptist Church of Winter Park. We will be honoring the four chaplains who died on the USAT (US Army Transport) Dorchester on February 3\, 1943. These brave men gave up their life saving equipment so that others could live and comforted the other soldiers aboard the ship who were not able to get off. 
URL:https://wpflpost112.org/event/four-chaplains-memorial-service/
LOCATION:First Baptist Church of Winter Park\, 1021 N. New York Ave\, Winter Park\, FL\, 32889
CATEGORIES:Auxiliary,Legion,Post Family,Sea Cadets,Sons
ORGANIZER;CN="Winter Park Memorial American Legion Post 112":MAILTO:flpost112@gmail.com
END:VEVENT
BEGIN:VEVENT
DTSTART;VALUE=DATE:20250822
DTEND;VALUE=DATE:20250829
DTSTAMP:20260424T200522
CREATED:20250125T012621Z
LAST-MODIFIED:20250125T012621Z
UID:2027-1755820800-1756425599@wpflpost112.org
SUMMARY:American Legion National Convention
DESCRIPTION:Waiting on specific information.
URL:https://wpflpost112.org/event/american-legion-national-convention/
LOCATION:Tampa. FL
CATEGORIES:Auxiliary,Legion,Post Family,Sons
END:VEVENT
BEGIN:VEVENT
DTSTART;TZID=America/New_York:20250906T100000
DTEND;TZID=America/New_York:20250906T130000
DTSTAMP:20260424T200522
CREATED:20250820T055019Z
LAST-MODIFIED:20250820T055019Z
UID:2244-1757152800-1757163600@wpflpost112.org
SUMMARY:6th District meeting
DESCRIPTION:This is the quarterly meeting. It will be at Post 63\, Winter Garden. 
URL:https://wpflpost112.org/event/6th-district-meeting-3/
LOCATION:Post 63\, 271 W Plant St\, Winter Garden\, FL\, 34778
CATEGORIES:Post Family
END:VEVENT
BEGIN:VEVENT
DTSTART;VALUE=DATE:20250916
DTEND;VALUE=DATE:20250917
DTSTAMP:20260424T200522
CREATED:20250820T062409Z
LAST-MODIFIED:20250820T062409Z
UID:2256-1757980800-1758067199@wpflpost112.org
SUMMARY:American Legion Day
DESCRIPTION:
URL:https://wpflpost112.org/event/american-legion-day/
LOCATION:FL
CATEGORIES:Post Family
END:VEVENT
BEGIN:VEVENT
DTSTART;TZID=America/New_York:20251206T100000
DTEND;TZID=America/New_York:20251206T130000
DTSTAMP:20260424T200522
CREATED:20250820T055420Z
LAST-MODIFIED:20250820T055420Z
UID:2246-1765015200-1765026000@wpflpost112.org
SUMMARY:6th District meeting
DESCRIPTION:The meeting will be held at Post 35 in Mount Dora. 
URL:https://wpflpost112.org/event/6th-district-meeting-4/
LOCATION:FL
CATEGORIES:Post Family
END:VEVENT
BEGIN:VEVENT
DTSTART;TZID=America/New_York:20260307T100000
DTEND;TZID=America/New_York:20260307T130000
DTSTAMP:20260424T200522
CREATED:20250820T055932Z
LAST-MODIFIED:20250820T055932Z
UID:2248-1772877600-1772888400@wpflpost112.org
SUMMARY:6th District meeting
DESCRIPTION:This meeting will be held at Post 347 in Lady Lake. 
URL:https://wpflpost112.org/event/6th-district-meeting-5/
LOCATION:FL
CATEGORIES:Post Family
END:VEVENT
END:VCALENDAR