BEGIN:VCALENDAR
VERSION:2.0
PRODID:-//Winter Park Memorial American Legion Post 112 - ECPv6.15.20//NONSGML v1.0//EN
CALSCALE:GREGORIAN
METHOD:PUBLISH
X-WR-CALNAME:Winter Park Memorial American Legion Post 112
X-ORIGINAL-URL:https://wpflpost112.org
X-WR-CALDESC:Events for Winter Park Memorial American Legion Post 112
REFRESH-INTERVAL;VALUE=DURATION:PT1H
X-Robots-Tag:noindex
X-PUBLISHED-TTL:PT1H
BEGIN:VTIMEZONE
TZID:America/New_York
BEGIN:DAYLIGHT
TZOFFSETFROM:-0500
TZOFFSETTO:-0400
TZNAME:EDT
DTSTART:20210314T070000
END:DAYLIGHT
BEGIN:STANDARD
TZOFFSETFROM:-0400
TZOFFSETTO:-0500
TZNAME:EST
DTSTART:20211107T060000
END:STANDARD
BEGIN:DAYLIGHT
TZOFFSETFROM:-0500
TZOFFSETTO:-0400
TZNAME:EDT
DTSTART:20220313T070000
END:DAYLIGHT
BEGIN:STANDARD
TZOFFSETFROM:-0400
TZOFFSETTO:-0500
TZNAME:EST
DTSTART:20221106T060000
END:STANDARD
BEGIN:DAYLIGHT
TZOFFSETFROM:-0500
TZOFFSETTO:-0400
TZNAME:EDT
DTSTART:20230312T070000
END:DAYLIGHT
BEGIN:STANDARD
TZOFFSETFROM:-0400
TZOFFSETTO:-0500
TZNAME:EST
DTSTART:20231105T060000
END:STANDARD
END:VTIMEZONE
BEGIN:VEVENT
DTSTART;TZID=America/New_York:20220301T190000
DTEND;TZID=America/New_York:20220301T200000
DTSTAMP:20260421T171336
CREATED:20210814T224819Z
LAST-MODIFIED:20220220T012231Z
UID:294-1646161200-1646164800@wpflpost112.org
SUMMARY:Son's Squadron Meeting
DESCRIPTION:The Squadron is meeting is meeting on ZOOM on the first Tuesday of each month at 7 PM. If you have not received the login information\, send a text to the Adjutant @ 407-619-9611. If you wish to “visit” the meeting\, please contact the Adjutant by 5 PM on the meeting date.
URL:https://wpflpost112.org/event/sons-squadron-meeting-2/
LOCATION:ZOOM
CATEGORIES:Sons
ORGANIZER;CN="Sons of the American Legion Squadron 112":MAILTO:bcolbert@usa.net
END:VEVENT
BEGIN:VEVENT
DTSTART;VALUE=DATE:20220305
DTEND;VALUE=DATE:20220307
DTSTAMP:20260421T171336
CREATED:20210816T000420Z
LAST-MODIFIED:20210816T233126Z
UID:382-1646438400-1646611199@wpflpost112.org
SUMMARY:Sea Cadet Drill & Inspection
DESCRIPTION:
URL:https://wpflpost112.org/event/sea-cadet-drill-inspection/
LOCATION:Post 112\, 4490 N Goldenrod Rd\, Winter Park\, FL\, 32792
CATEGORIES:Sea Cadets
END:VEVENT
BEGIN:VEVENT
DTSTART;TZID=America/New_York:20220308T190000
DTEND;TZID=America/New_York:20220308T200000
DTSTAMP:20260421T171336
CREATED:20210815T032721Z
LAST-MODIFIED:20210816T233106Z
UID:331-1646766000-1646769600@wpflpost112.org
SUMMARY:Post General Meeting
DESCRIPTION:
URL:https://wpflpost112.org/event/post-general-meeting-8/
LOCATION:Post 112\, 4490 N Goldenrod Rd\, Winter Park\, FL\, 32792
CATEGORIES:Legion
ORGANIZER;CN="Winter Park Memorial American Legion Post 112":MAILTO:flpost112@gmail.com
END:VEVENT
BEGIN:VEVENT
DTSTART;VALUE=DATE:20220313
DTEND;VALUE=DATE:20220314
DTSTAMP:20260421T171336
CREATED:20220107T025851Z
LAST-MODIFIED:20220107T025851Z
UID:596-1647129600-1647215999@wpflpost112.org
SUMMARY:Daylight Savings Time starts
DESCRIPTION:This morning was the day that you set your clocks ahead one hour to begin Daylight Savings Time for the summer.
URL:https://wpflpost112.org/event/daylight-savings-time-starts/
LOCATION:FL
END:VEVENT
BEGIN:VEVENT
DTSTART;TZID=America/New_York:20220315T190000
DTEND;TZID=America/New_York:20220315T200000
DTSTAMP:20260421T171336
CREATED:20210815T043115Z
LAST-MODIFIED:20210816T233045Z
UID:348-1647370800-1647374400@wpflpost112.org
SUMMARY:Auxiliary Unit Meeting
DESCRIPTION:
URL:https://wpflpost112.org/event/auxiliary-unit-meeting-8/
LOCATION:Post 112\, 4490 N Goldenrod Rd\, Winter Park\, FL\, 32792
CATEGORIES:Auxiliary
ORGANIZER;CN="Winter Park Memorial Auxiliary Unit 112":MAILTO:wpfl.ala112@gmail.com
END:VEVENT
BEGIN:VEVENT
DTSTART;TZID=America/New_York:20220319T090000
DTEND;TZID=America/New_York:20220319T110000
DTSTAMP:20260421T171336
CREATED:20220107T025150Z
LAST-MODIFIED:20220107T025246Z
UID:589-1647680400-1647687600@wpflpost112.org
SUMMARY:Fleet Reserve Association Board Meeting
DESCRIPTION:The Fleet Reserve Association board will meet at the Post at 9:30 a.m. You should receive an email from the FRA Secretary with more information prior to the meeting. If you are interested in attending\, contact the Secretary\, Stephen Miglionico at 321-301-6256.
URL:https://wpflpost112.org/event/589/
LOCATION:Post 112\, 4490 N Goldenrod Rd\, Winter Park\, FL\, 32792
CATEGORIES:FRA
END:VEVENT
END:VCALENDAR