BEGIN:VCALENDAR
VERSION:2.0
PRODID:-//Winter Park Memorial American Legion Post 112 - ECPv6.15.20//NONSGML v1.0//EN
CALSCALE:GREGORIAN
METHOD:PUBLISH
X-WR-CALNAME:Winter Park Memorial American Legion Post 112
X-ORIGINAL-URL:https://wpflpost112.org
X-WR-CALDESC:Events for Winter Park Memorial American Legion Post 112
REFRESH-INTERVAL;VALUE=DURATION:PT1H
X-Robots-Tag:noindex
X-PUBLISHED-TTL:PT1H
BEGIN:VTIMEZONE
TZID:America/New_York
BEGIN:DAYLIGHT
TZOFFSETFROM:-0500
TZOFFSETTO:-0400
TZNAME:EDT
DTSTART:20230312T070000
END:DAYLIGHT
BEGIN:STANDARD
TZOFFSETFROM:-0400
TZOFFSETTO:-0500
TZNAME:EST
DTSTART:20231105T060000
END:STANDARD
BEGIN:DAYLIGHT
TZOFFSETFROM:-0500
TZOFFSETTO:-0400
TZNAME:EDT
DTSTART:20240310T070000
END:DAYLIGHT
BEGIN:STANDARD
TZOFFSETFROM:-0400
TZOFFSETTO:-0500
TZNAME:EST
DTSTART:20241103T060000
END:STANDARD
BEGIN:DAYLIGHT
TZOFFSETFROM:-0500
TZOFFSETTO:-0400
TZNAME:EDT
DTSTART:20250309T070000
END:DAYLIGHT
BEGIN:STANDARD
TZOFFSETFROM:-0400
TZOFFSETTO:-0500
TZNAME:EST
DTSTART:20251102T060000
END:STANDARD
END:VTIMEZONE
BEGIN:VEVENT
DTSTART;VALUE=DATE:20240302
DTEND;VALUE=DATE:20240304
DTSTAMP:20260419T134319
CREATED:20230807T175402Z
LAST-MODIFIED:20230807T175402Z
UID:1376-1709337600-1709510399@wpflpost112.org
SUMMARY:Sea Cadet Weekend
DESCRIPTION:
URL:https://wpflpost112.org/event/sea-cadet-weekend-9/
LOCATION:Post 112\, 4490 N Goldenrod Rd\, Winter Park\, FL\, 32792
CATEGORIES:Sea Cadets
END:VEVENT
BEGIN:VEVENT
DTSTART;TZID=America/New_York:20240302T093000
DTEND;TZID=America/New_York:20240302T120000
DTSTAMP:20260419T134319
CREATED:20240116T005923Z
LAST-MODIFIED:20240116T005923Z
UID:1581-1709371800-1709380800@wpflpost112.org
SUMMARY:6th District Meeting - Post 347
DESCRIPTION:The 6th District Legion\, Auxiliary & Son’s quarterly meeting will be held at Post 347 in Lady Lake. Registration starts at 9:30 and the meetings start at 10 AM. 
URL:https://wpflpost112.org/event/6th-district-meeting-post-347/
LOCATION:Post 347\, Lady Lake\, 699 W Lady Lake Blvd\, Lady Lake\, FL\, 32158
END:VEVENT
BEGIN:VEVENT
DTSTART;TZID=America/New_York:20240304T190000
DTEND;TZID=America/New_York:20240304T200000
DTSTAMP:20260419T134319
CREATED:20231216T033200Z
LAST-MODIFIED:20231216T033200Z
UID:1512-1709578800-1709582400@wpflpost112.org
SUMMARY:S A L Meeting
DESCRIPTION:Don’t forget to RSVP if you are coming to the meeting in person. We plan to have a light dinner/snack at the meeting and need to know who will be there for food planning purposes. Since we do not have a full functioning kitchen\, the food is brought in. Please let the Adjutant know not later than Friday\, 1 MAR 24\, if you plan to attend in person. ZOOM participants do not have to RSVP. The ZOOM link will be emailed out on Friday\, 1 MAR 24. See you there!
URL:https://wpflpost112.org/event/s-a-l-meeting-3/
LOCATION:Post 112\, 4490 N Goldenrod Rd\, Winter Park\, FL\, 32792
CATEGORIES:Sons
ORGANIZER;CN="Sons of the American Legion Squadron 112":MAILTO:bcolbert@usa.net
END:VEVENT
BEGIN:VEVENT
DTSTART;VALUE=DATE:20240310
DTEND;VALUE=DATE:20240311
DTSTAMP:20260419T134319
CREATED:20240118T230449Z
LAST-MODIFIED:20240118T230449Z
UID:1585-1710028800-1710115199@wpflpost112.org
SUMMARY:Daylight Savings Time begins
DESCRIPTION:
URL:https://wpflpost112.org/event/daylight-savings-time-begins/
LOCATION:FL
END:VEVENT
BEGIN:VEVENT
DTSTART;TZID=America/New_York:20240312T190000
DTEND;TZID=America/New_York:20240312T203000
DTSTAMP:20260419T134319
CREATED:20230807T181350Z
LAST-MODIFIED:20230807T183143Z
UID:1398-1710270000-1710275400@wpflpost112.org
SUMMARY:Post General Meeting
DESCRIPTION:Nominating committee formed to find candidates for 2024-2025 Post Officers
URL:https://wpflpost112.org/event/post-general-meeting-30/
LOCATION:Post 112\, 4490 N Goldenrod Rd\, Winter Park\, FL\, 32792
CATEGORIES:Legion
ORGANIZER;CN="Winter Park Memorial American Legion Post 112":MAILTO:flpost112@gmail.com
END:VEVENT
BEGIN:VEVENT
DTSTART;TZID=America/New_York:20240316T093000
DTEND;TZID=America/New_York:20240316T110000
DTSTAMP:20260419T134319
CREATED:20231122T012145Z
LAST-MODIFIED:20231122T012145Z
UID:1484-1710581400-1710586800@wpflpost112.org
SUMMARY:Fleet Reserve Association (FRA)
DESCRIPTION:For more information\, contact Steve Miglionico at 407-301-6256.
URL:https://wpflpost112.org/event/fleet-reserve-association-fra-3/
LOCATION:Post 112\, 4490 N Goldenrod Rd\, Winter Park\, FL\, 32792
CATEGORIES:FRA
END:VEVENT
BEGIN:VEVENT
DTSTART;VALUE=DATE:20240317
DTEND;VALUE=DATE:20240318
DTSTAMP:20260419T134319
CREATED:20240118T230524Z
LAST-MODIFIED:20240118T230524Z
UID:1587-1710633600-1710719999@wpflpost112.org
SUMMARY:Saint Patrick's Day
DESCRIPTION:
URL:https://wpflpost112.org/event/saint-patricks-day-2/
LOCATION:FL
END:VEVENT
BEGIN:VEVENT
DTSTART;TZID=America/New_York:20240319T190000
DTEND;TZID=America/New_York:20240319T200000
DTSTAMP:20260419T134319
CREATED:20240115T230150Z
LAST-MODIFIED:20240115T230150Z
UID:1537-1710874800-1710878400@wpflpost112.org
SUMMARY:Auxiliary Unit Meeting
DESCRIPTION:
URL:https://wpflpost112.org/event/auxiliary-unit-meeting-20/
LOCATION:ZOOM
CATEGORIES:Auxiliary
ORGANIZER;CN="Winter Park Memorial Auxiliary Unit 112":MAILTO:wpfl.ala112@gmail.com
END:VEVENT
BEGIN:VEVENT
DTSTART;TZID=America/New_York:20240324T170000
DTEND;TZID=America/New_York:20240324T200000
DTSTAMP:20260419T134319
CREATED:20240318T221703Z
LAST-MODIFIED:20240318T221703Z
UID:1623-1711299600-1711310400@wpflpost112.org
SUMMARY:Troop 4613 meeting
DESCRIPTION:
URL:https://wpflpost112.org/event/troop-4613-meeting-3/
LOCATION:Post 112\, 4490 N Goldenrod Rd\, Winter Park\, FL\, 32792
CATEGORIES:Boy Scouts
END:VEVENT
BEGIN:VEVENT
DTSTART;VALUE=DATE:20240331
DTEND;VALUE=DATE:20240401
DTSTAMP:20260419T134319
CREATED:20240118T231212Z
LAST-MODIFIED:20240118T231212Z
UID:1591-1711843200-1711929599@wpflpost112.org
SUMMARY:Easter Sunday
DESCRIPTION:
URL:https://wpflpost112.org/event/easter-sunday-3/
LOCATION:FL
END:VEVENT
END:VCALENDAR