BEGIN:VCALENDAR
VERSION:2.0
PRODID:-//Winter Park Memorial American Legion Post 112 - ECPv6.15.20//NONSGML v1.0//EN
CALSCALE:GREGORIAN
METHOD:PUBLISH
X-WR-CALNAME:Winter Park Memorial American Legion Post 112
X-ORIGINAL-URL:https://wpflpost112.org
X-WR-CALDESC:Events for Winter Park Memorial American Legion Post 112
REFRESH-INTERVAL;VALUE=DURATION:PT1H
X-Robots-Tag:noindex
X-PUBLISHED-TTL:PT1H
BEGIN:VTIMEZONE
TZID:America/New_York
BEGIN:DAYLIGHT
TZOFFSETFROM:-0500
TZOFFSETTO:-0400
TZNAME:EDT
DTSTART:20230312T070000
END:DAYLIGHT
BEGIN:STANDARD
TZOFFSETFROM:-0400
TZOFFSETTO:-0500
TZNAME:EST
DTSTART:20231105T060000
END:STANDARD
BEGIN:DAYLIGHT
TZOFFSETFROM:-0500
TZOFFSETTO:-0400
TZNAME:EDT
DTSTART:20240310T070000
END:DAYLIGHT
BEGIN:STANDARD
TZOFFSETFROM:-0400
TZOFFSETTO:-0500
TZNAME:EST
DTSTART:20241103T060000
END:STANDARD
BEGIN:DAYLIGHT
TZOFFSETFROM:-0500
TZOFFSETTO:-0400
TZNAME:EDT
DTSTART:20250309T070000
END:DAYLIGHT
BEGIN:STANDARD
TZOFFSETFROM:-0400
TZOFFSETTO:-0500
TZNAME:EST
DTSTART:20251102T060000
END:STANDARD
END:VTIMEZONE
BEGIN:VEVENT
DTSTART;TZID=America/New_York:20240401T190000
DTEND;TZID=America/New_York:20240401T200000
DTSTAMP:20260421T004759
CREATED:20240118T231044Z
LAST-MODIFIED:20240331T011649Z
UID:1589-1711998000-1712001600@wpflpost112.org
SUMMARY:S A L Squadron Meeting ONLINE ONLY!
DESCRIPTION:The meeting will be ZOOM ONLY and the link has been emailed out. If you did not get it\, please contact the Adjutant at FLPost112@gmail.com  See you ONLINE!
URL:https://wpflpost112.org/event/s-a-l-squadron-meeting-2/
LOCATION:Post 112\, 4490 N Goldenrod Rd\, Winter Park\, FL\, 32792
ORGANIZER;CN="Sons of the American Legion Squadron 112":MAILTO:bcolbert@usa.net
END:VEVENT
BEGIN:VEVENT
DTSTART;VALUE=DATE:20240406
DTEND;VALUE=DATE:20240408
DTSTAMP:20260421T004759
CREATED:20230807T175501Z
LAST-MODIFIED:20230807T175501Z
UID:1378-1712361600-1712534399@wpflpost112.org
SUMMARY:Sea Cadet Weekend
DESCRIPTION:
URL:https://wpflpost112.org/event/sea-cadet-weekend-10/
LOCATION:Post 112\, 4490 N Goldenrod Rd\, Winter Park\, FL\, 32792
CATEGORIES:Sea Cadets
END:VEVENT
BEGIN:VEVENT
DTSTART;TZID=America/New_York:20240409T190000
DTEND;TZID=America/New_York:20240409T203000
DTSTAMP:20260421T004759
CREATED:20230807T181823Z
LAST-MODIFIED:20230807T182802Z
UID:1400-1712689200-1712694600@wpflpost112.org
SUMMARY:Post General Meeting
DESCRIPTION:Slate presented for 2024-2025 Officers and nominations from the floor.
URL:https://wpflpost112.org/event/post-general-meeting-31/
LOCATION:Post 112\, 4490 N Goldenrod Rd\, Winter Park\, FL\, 32792
CATEGORIES:Legion
ORGANIZER;CN="Winter Park Memorial American Legion Post 112":MAILTO:flpost112@gmail.com
END:VEVENT
BEGIN:VEVENT
DTSTART;VALUE=DATE:20240415
DTEND;VALUE=DATE:20240416
DTSTAMP:20260421T004759
CREATED:20230807T182055Z
LAST-MODIFIED:20230807T182055Z
UID:1404-1713139200-1713225599@wpflpost112.org
SUMMARY:Newsletter Articles Due
DESCRIPTION:
URL:https://wpflpost112.org/event/newsletter-articles-due-9/
LOCATION:FL
CATEGORIES:General
END:VEVENT
BEGIN:VEVENT
DTSTART;VALUE=DATE:20240415
DTEND;VALUE=DATE:20240416
DTSTAMP:20260421T004759
CREATED:20230807T182124Z
LAST-MODIFIED:20240402T223056Z
UID:1406-1713139200-1713225599@wpflpost112.org
SUMMARY:Tax Day
DESCRIPTION:
URL:https://wpflpost112.org/event/tex-day/
LOCATION:FL
CATEGORIES:General
END:VEVENT
BEGIN:VEVENT
DTSTART;TZID=America/New_York:20240416T190000
DTEND;TZID=America/New_York:20240416T200000
DTSTAMP:20260421T004759
CREATED:20240118T231439Z
LAST-MODIFIED:20240402T223503Z
UID:1593-1713294000-1713297600@wpflpost112.org
SUMMARY:Auxiliary Unit Meeting on ZOOM
DESCRIPTION:
URL:https://wpflpost112.org/event/auxiliary-unit-meeting-21/
LOCATION:ZOOM
CATEGORIES:Auxiliary
ORGANIZER;CN="Winter Park Memorial Auxiliary Unit 112":MAILTO:wpfl.ala112@gmail.com
END:VEVENT
BEGIN:VEVENT
DTSTART;TZID=America/New_York:20240428T170000
DTEND;TZID=America/New_York:20240428T190000
DTSTAMP:20260421T004759
CREATED:20240422T001256Z
LAST-MODIFIED:20240422T001256Z
UID:1647-1714323600-1714330800@wpflpost112.org
SUMMARY:Troop Meeting
DESCRIPTION:
URL:https://wpflpost112.org/event/troop-meeting/
LOCATION:Post 112\, 4490 N Goldenrod Rd\, Winter Park\, FL\, 32792
CATEGORIES:Boy Scouts
END:VEVENT
END:VCALENDAR