BEGIN:VCALENDAR
VERSION:2.0
PRODID:-//Winter Park Memorial American Legion Post 112 - ECPv6.15.20//NONSGML v1.0//EN
CALSCALE:GREGORIAN
METHOD:PUBLISH
X-ORIGINAL-URL:https://wpflpost112.org
X-WR-CALDESC:Events for Winter Park Memorial American Legion Post 112
REFRESH-INTERVAL;VALUE=DURATION:PT1H
X-Robots-Tag:noindex
X-PUBLISHED-TTL:PT1H
BEGIN:VTIMEZONE
TZID:America/New_York
BEGIN:DAYLIGHT
TZOFFSETFROM:-0500
TZOFFSETTO:-0400
TZNAME:EDT
DTSTART:20230312T070000
END:DAYLIGHT
BEGIN:STANDARD
TZOFFSETFROM:-0400
TZOFFSETTO:-0500
TZNAME:EST
DTSTART:20231105T060000
END:STANDARD
BEGIN:DAYLIGHT
TZOFFSETFROM:-0500
TZOFFSETTO:-0400
TZNAME:EDT
DTSTART:20240310T070000
END:DAYLIGHT
BEGIN:STANDARD
TZOFFSETFROM:-0400
TZOFFSETTO:-0500
TZNAME:EST
DTSTART:20241103T060000
END:STANDARD
BEGIN:DAYLIGHT
TZOFFSETFROM:-0500
TZOFFSETTO:-0400
TZNAME:EDT
DTSTART:20250309T070000
END:DAYLIGHT
BEGIN:STANDARD
TZOFFSETFROM:-0400
TZOFFSETTO:-0500
TZNAME:EST
DTSTART:20251102T060000
END:STANDARD
END:VTIMEZONE
BEGIN:VEVENT
DTSTART;TZID=America/New_York:20240701T190000
DTEND;TZID=America/New_York:20240701T200000
DTSTAMP:20260424T061009
CREATED:20240115T232345Z
LAST-MODIFIED:20240116T000100Z
UID:1551-1719860400-1719864000@wpflpost112.org
SUMMARY:Sons Squadron (SAL) meeting MOVED
DESCRIPTION:The meeting will be combined with the Post Family Installation of Officers to be held on July 9th at the Post at 7 PM.
URL:https://wpflpost112.org/event/sons-squadron-sal-meeting-3/
LOCATION:Post 112\, 4490 N Goldenrod Rd\, Winter Park\, FL\, 32792
CATEGORIES:Sons
ORGANIZER;CN="Sons of the American Legion Squadron 112":MAILTO:bcolbert@usa.net
END:VEVENT
BEGIN:VEVENT
DTSTART;VALUE=DATE:20240704
DTEND;VALUE=DATE:20240705
DTSTAMP:20260424T061009
CREATED:20240115T232500Z
LAST-MODIFIED:20240115T232525Z
UID:1553-1720051200-1720137599@wpflpost112.org
SUMMARY:INDEPENDENCE DAY
DESCRIPTION:
URL:https://wpflpost112.org/event/independence-day-3/
LOCATION:FL
END:VEVENT
BEGIN:VEVENT
DTSTART;TZID=America/New_York:20240709T190000
DTEND;TZID=America/New_York:20240709T200000
DTSTAMP:20260424T061009
CREATED:20240115T232805Z
LAST-MODIFIED:20240115T232805Z
UID:1555-1720551600-1720555200@wpflpost112.org
SUMMARY:General Meeting
DESCRIPTION:Installation of Officers is scheduled for tonight. 
URL:https://wpflpost112.org/event/general-meeting-2/
LOCATION:Post 112\, 4490 N Goldenrod Rd\, Winter Park\, FL\, 32792
CATEGORIES:Auxiliary,Legion,Sons
ORGANIZER;CN="Winter Park Memorial American Legion Post 112":MAILTO:flpost112@gmail.com
END:VEVENT
BEGIN:VEVENT
DTSTART;TZID=America/New_York:20240716T190000
DTEND;TZID=America/New_York:20240716T200000
DTSTAMP:20260424T061009
CREATED:20240116T000256Z
LAST-MODIFIED:20240116T000359Z
UID:1579-1721156400-1721160000@wpflpost112.org
SUMMARY:Auxiliary Unit meeting MOVED
DESCRIPTION:The July Auxiliary Unit meeting will be combined with the Post’s General Meeting for the annual Installation of Officers.
URL:https://wpflpost112.org/event/auxiliary-unit-meeting-moved/
LOCATION:FL
END:VEVENT
BEGIN:VEVENT
DTSTART;TZID=America/New_York:20240724T160000
DTEND;TZID=America/New_York:20240724T200000
DTSTAMP:20260424T061009
CREATED:20240718T002917Z
LAST-MODIFIED:20240718T002917Z
UID:1744-1721836800-1721851200@wpflpost112.org
SUMMARY:Sea Cadet Staff Meeting
DESCRIPTION:
URL:https://wpflpost112.org/event/sea-cadet-staff-meeting/
LOCATION:Post 112\, 4490 N Goldenrod Rd\, Winter Park\, FL\, 32792
CATEGORIES:Sea Cadets
END:VEVENT
END:VCALENDAR